BEGIN:VCALENDAR
VERSION:2.0
PRODID:spatie/icalendar-generator
DESCRIPTION:Events from Priority Management Training
X-WR-CALDESC:Events from Priority Management Training
REFRESH-INTERVAL;VALUE=DURATION:PT1440M
X-PUBLISHED-TTL:PT1440M
BEGIN:VTIMEZONE
TZID:Europe/Dublin
BEGIN:DAYLIGHT
DTSTART:20251026T020000Z
TZOFFSETFROM:+0100
TZOFFSETTO:+0000
END:DAYLIGHT
BEGIN:STANDARD
DTSTART:20260329T010000Z
TZOFFSETFROM:+0000
TZOFFSETTO:+0100
END:STANDARD
END:VTIMEZONE
BEGIN:VTIMEZONE
TZID:UTC
BEGIN:STANDARD
DTSTART:20250726T091414Z
TZOFFSETFROM:+0000
TZOFFSETTO:+0000
END:STANDARD
END:VTIMEZONE
BEGIN:VEVENT
UID:93-34
DTSTAMP:20260422T091414Z
SUMMARY:Working Smart with SharePoint &amp;amp\; OneDrive
LOCATION:
ORGANIZER;CN=Claudia Livarskaya:MAILTO:clivarskaya@prioritymanagementtraini
 ng.ie
RRULE:FREQ=MONTHLY;BYDAY=2MO;UNTIL=20260226T000000Z
DTSTART;TZID=Europe/Dublin:20260209T100000
DTEND;TZID=Europe/Dublin:20260209T123000
X-ALT-DESC;FMTTYPE=TEXT/HTML:This course is designed to empower individuals
  and teams to fully leverage the capabilities of OneDrive and SharePoint\,
  transforming the way they store\, share\, and collaborate on content. Par
 ticipants will learn to streamline their workflows\, enhance data accessib
 ility\, and foster a culture of seamless collaboration.
CATEGORIES:WorkingSm@rt with SharePoint &amp; OneDrive
URL;VALUE=URI:https://prioritymanagementtraining.ie/mc-events/working-smart
 -with-sharepoint-onedrive/?mc_id=93
METHOD:PUBLISH
END:VEVENT
END:VCALENDAR