BEGIN:VCALENDAR
VERSION:2.0
PRODID:spatie/icalendar-generator
DESCRIPTION:Events from Priority Management Training
X-WR-CALDESC:Events from Priority Management Training
REFRESH-INTERVAL;VALUE=DURATION:PT1440M
X-PUBLISHED-TTL:PT1440M
BEGIN:VTIMEZONE
TZID:Europe/Dublin
BEGIN:DAYLIGHT
DTSTART:20241027T020000Z
TZOFFSETFROM:+0100
TZOFFSETTO:+0000
END:DAYLIGHT
BEGIN:STANDARD
DTSTART:20250330T010000Z
TZOFFSETFROM:+0000
TZOFFSETTO:+0100
END:STANDARD
END:VTIMEZONE
BEGIN:VTIMEZONE
TZID:UTC
BEGIN:STANDARD
DTSTART:20250726T091649Z
TZOFFSETFROM:+0000
TZOFFSETTO:+0000
END:STANDARD
END:VTIMEZONE
BEGIN:VEVENT
UID:72-31
DTSTAMP:20260422T091649Z
SUMMARY:Working Smart in Meetings
LOCATION:
ORGANIZER;CN=Claudia Livarskaya:MAILTO:clivarskaya@prioritymanagementtraini
 ng.ie
RRULE:FREQ=MONTHLY;BYDAY=4TH;UNTIL=20251127T000000Z
DTSTART;TZID=Europe/Dublin:20250227T090000
DTEND;TZID=Europe/Dublin:20250227T130000
X-ALT-DESC;FMTTYPE=TEXT/HTML:Learn not only how to plan\, organise and run 
 a successful meeting but also how to get the most out of the meetings you 
 are required to attend. Immediate benefits are a “business planning” a
 pproach to meetings\, increased meeting effectiveness\, saving time and im
 proved meeting outcomes
CATEGORIES:WorkingSm@rt with Meetings
URL;VALUE=URI:https://prioritymanagementtraining.ie/mc-events/working-smart
 -in-meetings/?mc_id=72
METHOD:PUBLISH
END:VEVENT
END:VCALENDAR