BEGIN:VCALENDAR
VERSION:2.0
PRODID:spatie/icalendar-generator
DESCRIPTION:Events from Priority Management Training
X-WR-CALDESC:Events from Priority Management Training
REFRESH-INTERVAL;VALUE=DURATION:PT1440M
X-PUBLISHED-TTL:PT1440M
BEGIN:VTIMEZONE
TZID:Europe/Dublin
BEGIN:STANDARD
DTSTART:20250330T010000Z
TZOFFSETFROM:+0000
TZOFFSETTO:+0100
END:STANDARD
BEGIN:DAYLIGHT
DTSTART:20251026T020000Z
TZOFFSETFROM:+0100
TZOFFSETTO:+0000
END:DAYLIGHT
BEGIN:STANDARD
DTSTART:20260329T010000Z
TZOFFSETFROM:+0000
TZOFFSETTO:+0100
END:STANDARD
END:VTIMEZONE
BEGIN:VTIMEZONE
TZID:UTC
BEGIN:STANDARD
DTSTART:20250724T112933Z
TZOFFSETFROM:+0000
TZOFFSETTO:+0000
END:STANDARD
END:VTIMEZONE
BEGIN:VEVENT
UID:121-51
DTSTAMP:20260420T112933Z
SUMMARY:1hr Lunch &amp;amp\; Learn – To help Executives understand and levera
 ge Generative AI
LOCATION:
ORGANIZER;CN=Claudia Livarskaya:MAILTO:clivarskaya@prioritymanagementtraini
 ng.ie
DTSTART;TZID=Europe/Dublin:20251017T120000
DTEND;TZID=Europe/Dublin:20251017T130000
X-ALT-DESC;FMTTYPE=TEXT/HTML:This Workshop is designed to help Executives u
 nderstand and leverage Generative AI in the context of achieving organiza
 tional goals. The 1-hour online session is a mixture of presentation and i
 nteraction to guide participants to the best Gen AI path forward as indivi
 duals\, teams\, departments or for a wider organizational remit.
CATEGORIES:1hr Lunch &amp; Learn
URL;VALUE=URI:https://prioritymanagementtraining.ie/mc-events/1hr-lunch-lea
 rn-to-help-executives-understand-and-leverage-generative-ai/
METHOD:PUBLISH
END:VEVENT
END:VCALENDAR