BEGIN:VCALENDAR
VERSION:2.0
PRODID:-//Priority Management Training - ECPv6.15.20//NONSGML v1.0//EN
CALSCALE:GREGORIAN
METHOD:PUBLISH
X-ORIGINAL-URL:https://prioritymanagementtraining.ie
X-WR-CALDESC:Events for Priority Management Training
REFRESH-INTERVAL;VALUE=DURATION:PT1H
X-Robots-Tag:noindex
X-PUBLISHED-TTL:PT1H
BEGIN:VTIMEZONE
TZID:Europe/Dublin
BEGIN:STANDARD
TZOFFSETFROM:+0000
TZOFFSETTO:+0100
TZNAME:IST
DTSTART:20240331T010000
END:STANDARD
BEGIN:DAYLIGHT
TZOFFSETFROM:+0100
TZOFFSETTO:+0000
TZNAME:GMT
DTSTART:20241027T010000
END:DAYLIGHT
BEGIN:STANDARD
TZOFFSETFROM:+0000
TZOFFSETTO:+0100
TZNAME:IST
DTSTART:20250330T010000
END:STANDARD
BEGIN:DAYLIGHT
TZOFFSETFROM:+0100
TZOFFSETTO:+0000
TZNAME:GMT
DTSTART:20251026T010000
END:DAYLIGHT
BEGIN:STANDARD
TZOFFSETFROM:+0000
TZOFFSETTO:+0100
TZNAME:IST
DTSTART:20260329T010000
END:STANDARD
BEGIN:DAYLIGHT
TZOFFSETFROM:+0100
TZOFFSETTO:+0000
TZNAME:GMT
DTSTART:20261025T010000
END:DAYLIGHT
END:VTIMEZONE
BEGIN:VEVENT
DTSTART;TZID=Europe/Dublin:20251202T090000
DTEND;TZID=Europe/Dublin:20251202T133000
DTSTAMP:20260422T172236
CREATED:20251124T223105Z
LAST-MODIFIED:20251128T130915Z
UID:4130-1764666000-1764682200@prioritymanagementtraining.ie
SUMMARY:Prioritising to Work Effectively – Working Smart with MS Outlook + Copilot
DESCRIPTION:This session focuses on helping participants manage their workload more efficiently using MS Outlook and Copilot. It covers practical strategies for prioritising tasks\, organising information\, and streamlining daily workflows. Participants learn how to leverage Outlook’s productivity features alongside AI-powered support from Copilot to work smarter\, reduce overwhelm\, and improve overall effectiveness. \n  \nPayment will be arranged via email following your registration. Please email clivarskaya@prioritymanagementtraining.ie
URL:https://prioritymanagementtraining.ie/event/prioritising-to-work-effectively-working-smart-with-ms-outlook-copilot/
ORGANIZER;CN="Claudia Livarskaya":MAILTO:clivarskaya@prioritymanagementtraining.ie
END:VEVENT
END:VCALENDAR